BEGIN:VCALENDAR
VERSION:2.0
PRODID:DPCALENDAR
CALSCALE:GREGORIAN
BEGIN:VTIMEZONE
TZID:America/New_York
X-MICROSOFT-CDO-TZID:10
BEGIN:STANDARD
DTSTART:20251102T060000
TZOFFSETFROM:-400
TZOFFSETTO:-500
TZNAME:EST
END:STANDARD
BEGIN:DAYLIGHT
DTSTART:20260308T070000
TZOFFSETFROM:-500
TZOFFSETTO:-400
TZNAME:EDT
END:DAYLIGHT
BEGIN:STANDARD
DTSTART:20261101T060000
TZOFFSETFROM:-400
TZOFFSETTO:-500
TZNAME:EST
END:STANDARD
END:VTIMEZONE
X-WR-TIMEZONE:America/New_York
BEGIN:VEVENT
DTSTART;TZID=America/New_York:20160331T193000
DTEND;TZID=America/New_York:20160331T213000
UID:A6FA96DE-06A9-476B-869F-90DC9A7ED237
SUMMARY:Charlie Musselwhite - Seminole Showcase Series
DTSTAMP:20151218T171918Z
DESCRIPTION:{article Charlie Musselwhite}{text}{/article}
X-ALT-DESC;FMTTYPE=text/html:<p>{article Charlie Musselwhite}{text}{/article}</p>
LAST-MODIFIED:20160211T005932Z
X-ACCESS:1
X-HITS:6235
X-URL:
X-COLOR:F2C047
END:VEVENT
END:VCALENDAR