BEGIN:VCALENDAR
VERSION:2.0
PRODID:DPCALENDAR
CALSCALE:GREGORIAN
BEGIN:VTIMEZONE
TZID:America/New_York
X-MICROSOFT-CDO-TZID:10
BEGIN:STANDARD
DTSTART:20251102T060000
TZOFFSETFROM:-400
TZOFFSETTO:-500
TZNAME:EST
END:STANDARD
BEGIN:DAYLIGHT
DTSTART:20260308T070000
TZOFFSETFROM:-500
TZOFFSETTO:-400
TZNAME:EDT
END:DAYLIGHT
BEGIN:STANDARD
DTSTART:20261101T060000
TZOFFSETFROM:-400
TZOFFSETTO:-500
TZNAME:EST
END:STANDARD
END:VTIMEZONE
X-WR-TIMEZONE:America/New_York
BEGIN:VEVENT
DTSTART;TZID=America/New_York:20160212T200000
DTEND;TZID=America/New_York:20160212T220000
UID:798D04B7-B798-4DDC-B2F6-865527A7CF1F
SUMMARY:Paul Thorn - Seminole Showcase Series
DTSTAMP:20151218T173139Z
DESCRIPTION:{article Paul Thorn}{text}{/article}
X-ALT-DESC;FMTTYPE=text/html:<p>{article Paul Thorn}{text}{/article}</p>
LAST-MODIFIED:20160211T005824Z
X-ACCESS:1
X-HITS:4306
X-URL:
X-COLOR:F2C047
END:VEVENT
END:VCALENDAR