BEGIN:VCALENDAR
VERSION:2.0
PRODID:DPCALENDAR
CALSCALE:GREGORIAN
BEGIN:VTIMEZONE
TZID:America/New_York
X-MICROSOFT-CDO-TZID:10
BEGIN:STANDARD
DTSTART:20251102T060000
TZOFFSETFROM:-400
TZOFFSETTO:-500
TZNAME:EST
END:STANDARD
BEGIN:DAYLIGHT
DTSTART:20260308T070000
TZOFFSETFROM:-500
TZOFFSETTO:-400
TZNAME:EDT
END:DAYLIGHT
BEGIN:STANDARD
DTSTART:20261101T060000
TZOFFSETFROM:-400
TZOFFSETTO:-500
TZNAME:EST
END:STANDARD
END:VTIMEZONE
X-WR-TIMEZONE:America/New_York
BEGIN:VEVENT
DTSTART;TZID=America/New_York:20250425T190000
DTEND;TZID=America/New_York:20250425T210000
UID:8851B5C4-DE94-41E6-B66A-D791013A5C45
SUMMARY:In The Heights April 25th 
DTSTAMP:20250404T172832Z
DESCRIPTION:{article In The heights April 25th}{text}{/article}
X-ALT-DESC;FMTTYPE=text/html:{article In The heights April 25th}{text}{/article}
LAST-MODIFIED:20250404T172836Z
X-ACCESS:1
X-HITS:1382
X-URL:
X-COLOR:3366CC
END:VEVENT
END:VCALENDAR